BEGIN:VCALENDAR
VERSION:2.0
PRODID:-//筑豊情報マガジンWING - ECPv6.11.2.1//NONSGML v1.0//EN
CALSCALE:GREGORIAN
METHOD:PUBLISH
X-WR-CALNAME:筑豊情報マガジンWING
X-ORIGINAL-URL:https://wing-r.com
X-WR-CALDESC:筑豊情報マガジンWING のイベント
REFRESH-INTERVAL;VALUE=DURATION:PT1H
X-Robots-Tag:noindex
X-PUBLISHED-TTL:PT1H
BEGIN:VTIMEZONE
TZID:Asia/Tokyo
BEGIN:STANDARD
TZOFFSETFROM:+0900
TZOFFSETTO:+0900
TZNAME:JST
DTSTART:20260101T000000
END:STANDARD
END:VTIMEZONE
BEGIN:VEVENT
DTSTART;VALUE=DATE:20260411
DTEND;VALUE=DATE:20260601
DTSTAMP:20260424T195351
CREATED:20260326T012548Z
LAST-MODIFIED:20260326T012407Z
UID:58970-1775865600-1780271999@wing-r.com
SUMMARY:少女英展－キャラと、寓話と、幻想と、－
DESCRIPTION:4月11日（土）から田川市美術館で「少女英展－キャラと、寓話と、幻想と、－」が開催されます。\n田川市美術館開館の翌年より、新鋭作家の発掘・育成、俊英作家の顕彰、地元美術界の活性化を目的に続けられてきた英展は、今回で30回目という節目を迎えます。\n今回は通常の英展とは趣向を変え、これまでに紹介してきた延べ1727人の作家の中から3人を取り上げて展示。\n漫画やアニメーションの研究をもとに独自の表現を展開する福地英臣、不思議な少女や擬人化された動物たちをやさしいタッチで描く臼杵万理実、漆黒の背景に人物や風景を幻想的に描く田中千智の作品が並びます。\n現在のアートシーンで活躍する3人の作品を同時に鑑賞できる機会となっています。\n通常の英展とはひと味違う企画展として、足を運んでみてはいかがでしょうか。\n\n\n関連イベント\n\n\nオープニングギャラリートーク\n出品作家3人を招き、展覧会のオープニングを記念したギャラリートークを開催します。\n 日　時／4月11日（土）13:30～14:30\n  会　場／田川市美術館 展示室\n 参加費／無料（要観覧券）\n\n\n\n｢ツキ市｣\n月に一度、どこかに現れる、衣食住遊とつながる場所。人気のマルシェイベント「ツキ市」が美術館にやってきます。\n 日　時／5月2日（土）11:00～15:00\n  会　場／田川市美術館内\n主催／ツキ市 ★出店情報などのお問い合わせはInstagram ＠tsuki.ichiのDMにて\n\n\n\n★この他、ワークショップやトークイベントを開催！詳しくは美術館ホームページをご覧ください。\n\n\n\n\n    \n\n\nInformation\n少女英展\n－キャラと、寓話と、幻想と、－\n 期日／4月11日（土）～5月31日（日）\n 時間／9:30〜17:30（入館 17:00まで）\n 休館日／月曜日（ただし5月4日（月・祝）は開館）・5月7日（木）\n\n\n 料金／一般 800円（700円）／高大生 400円（300円）／小中生 200円（100円）／未就学児無料\n\n\n※（　）内は20名以上の団体および田川市在住者［要身分証明書］の料金\n※身体障害者手帳、療育手帳、精神障害者保健福祉手帳の交付を受けている方とその介助者1名無料\n※土曜日は高校生以下無料\n\n\n\n会場／田川市美術館 全フロア\n 〒825-0016 福岡県田川市新町11-56\n 駐車場／あり\n主催・お問い合わせ／田川市美術館\n 電話／0947-42-6161\n Website／田川市美術館\n Instagram／@tagawa_museum\n\n\n\nWING Info\n今後のイベント情報が一目でわかる！筑豊イベントスケジュールはこちらから \n\n イベント スケジュール\n\n\n\n     \n\n \nクリックまたはタップでPDFが開きます
URL:https://wing-r.com/event/shojo-eiten/
LOCATION:田川市美術館\, 新町11-56\, 田川市\, 福岡県\, 825-0016\, 日本
CATEGORIES:田川市,展覧会
ATTACH;FMTTYPE=image/jpeg:https://wing-r.com/wp-content/uploads/2026/03/ev_shojo-eiten_main.jpg
END:VEVENT
BEGIN:VEVENT
DTSTART;VALUE=DATE:20260421
DTEND;VALUE=DATE:20260525
DTSTAMP:20260424T195351
CREATED:20260416T012046Z
LAST-MODIFIED:20260416T012557Z
UID:59684-1776729600-1779667199@wing-r.com
SUMMARY:令和8年度 春季 山本作兵衛コレクション原画企画展「ヤマの暮らし」
DESCRIPTION:4月21日（火）から田川市石炭・歴史博物館で「山本作兵衛コレクション原画企画展 ヤマの暮らし」が開催されます。\n田川市石炭・歴史博物館で例年開催されている、ユネスコ「世界の記憶」に登録された山本作兵衛の炭坑記録画の原画を中心とした企画展。今回の春季企画展では、「炭坑（ヤマ）の暮らし」をテーマに、当時の人々の生活を鮮やかに描いた記録画が並びます。\n炭坑のコミュニティや、煙突の下での暮らしを原画でじっくりと見ることができます。\n地域の歴史にも触れる、春のお出かけにぴったりの展示に行ってみてはいかがでしょうか。\n\n\n\n\n    \n\n\nInformation\n令和8年度 春季 山本作兵衛コレクション原画企画展\nヤマの暮らし\n 期日／4月21日（火）～5月24日（日）\n 時間／9:30～17:30（入館 17:00まで）\n 休館日｜4月27日・5月7日・11日・18日\n 料金／一般 400円／高校生 100円／小中学生 50円\n会場／田川市石炭・歴史博物館 第2展示室\n 〒825-0002 福岡県田川市伊田2734-1\n 駐車場／あり\n主催・お問い合わせ／田川市石炭・歴史博物館\n TEL.0947-44-5745\n Website／田川市石炭・歴史博物館\n Instagram／@tagawa_sekitan_museum\n\n\n\nWING Info\n今後のイベント情報が一目でわかる！筑豊イベントスケジュールはこちらから \n\n イベント スケジュール\n\n\n\n     \n\n \nクリックまたはタップでPDFが開きます
URL:https://wing-r.com/event/yama-no-kurashi/
LOCATION:田川市石炭・歴史博物館\, 伊田2734-1\, 田川市\, 福岡県\, 825-0002\, Japan
CATEGORIES:田川市,展覧会
ATTACH;FMTTYPE=image/jpeg:https://wing-r.com/wp-content/uploads/2026/04/ev_yama-no-kurashi_main.jpg
END:VEVENT
BEGIN:VEVENT
DTSTART;VALUE=DATE:20260421
DTEND;VALUE=DATE:20260427
DTSTAMP:20260424T195351
CREATED:20260410T050501Z
LAST-MODIFIED:20260410T050452Z
UID:59569-1776729600-1777247999@wing-r.com
SUMMARY:天皇杯・皇后杯 第42回飯塚国際車いすテニス大会
DESCRIPTION:今年で42回目となる「天皇杯・皇后杯 飯塚国際車いすテニス大会（Japan Open 2026） 」が4月21日（火）から4月26日（日）の6日間開催されます。会場はいいづかスポーツ・リゾートテニスコートおよび県営筑豊緑地公園テニスコートです。\nこの大会は車いすテニスを通じ、日本国内および海外の車いすテニスプレイヤーが交流を深め、さらには車いすテニスが健全なスポーツ競技として普及・認知されることを目的に開催されています。\nアジアで唯一、国際テニス連盟（ITF）公認の車いすテニスツアー「WT1000」として世界のトップ選手のハイレベルな戦いが繰り広げられる大会です。\nまた、今年は4月25日・26日限定で会場横にキッチンカーを備えたFan Zoneが開催されます。\n世界に誇る選手たちの華麗なプレイを間近で見られる絶好のチャンス！大いに盛り上がりましょう！\n\n\n\n\n    \n\n\nInformation\n天皇杯・皇后杯\n第42回 飯塚国際車いすテニス大会（Japan Open 2026）\n 期日／4月21日（火）〜4月26日（日）\n 時間／HPでご確認ください\n 料金／観覧無料\n★天候不良により屋内コートでの試合の場合は無観客となります。\n会場／いいづかスポーツ・リゾートテニスコート\n筑豊緑地公園テニスコート\n 所在地／〒820-0115 福岡県飯塚市仁保8（筑豊緑地）\n 駐車場／あり\n主催／一般社団法人日本車いすテニス協会・NPO法人 九州車いすテニス協会\n公認／国際テニス連盟（ITF）・公益財団法人日本テニス協会（JTA）\nお問い合わせ／飯塚国際車いすテニス大会事務局\n 電話／0948-25-7144\n Website／Japan Open\n\n\n\nWING Info\n今後のイベント情報が一目でわかる！筑豊イベントスケジュールはこちらから \n\n イベント スケジュール\n\n\n\n     \n\n \nクリックまたはタップでPDFが開きます
URL:https://wing-r.com/event/japan-open2026/
LOCATION:筑豊緑地\, 仁保8-25\, 飯塚市\, 福岡県\, 820-0115\, 日本
CATEGORIES:飯塚市,大会,スポーツ
ATTACH;FMTTYPE=image/jpeg:https://wing-r.com/wp-content/uploads/2026/04/ev_japan-open2026_mein.jpg
END:VEVENT
BEGIN:VEVENT
DTSTART;TZID=Asia/Tokyo:20260424T100000
DTEND;TZID=Asia/Tokyo:20260426T170000
DTSTAMP:20260424T195351
CREATED:20260409T080554Z
LAST-MODIFIED:20260409T080412Z
UID:59534-1777024800-1777222800@wing-r.com
SUMMARY:第52回上野焼 春の陶器まつり
DESCRIPTION:4月24日（金）から26日（日）まで、「第52回上野焼あがのやき 春の陶器まつり」が開催されます！\n国焼茶陶として約400年の歴史を誇り、国の伝統的工芸品に指定されている上野焼あがのやき。\n恒例となっているイベント「陶器まつり」では、会場となる上野の里ふれあい交流会館及び9つの窯元にて、それぞれの「春のうつわ」を交え、湯呑、茶碗といった日常食器や鉢、花器などの品々が展示販売されます。\n期間中は全商品2割引となり、格式の高さを誇る上野焼もこの日ばかりは大盤振る舞いです！\n今回は、その他イベントとして台湾茶と上野焼のコラボ企画（24日・25日）や、お抹茶と上野焼のコラボ企画（26日）、上野焼猪口×天郷醸造所クラフト酒セット販売（全日）が行われます。\nさらに、スタンプラリーの豪華景品やキッチンカー等の食事処も準備されています。\n春の上野散策を楽しみながら、お気に入りの上野焼を見つけてみてはいかがでしょうか♪\n\n\n春の陶器まつり限定催し\n\n\n▍全商品20%割引販売！／24日～26日\n\n\n\n▍台湾茶席体験／24日・25日\n呉伊婷ウーイーティンさんによる台湾茶の香りや味を上野焼の茶器で味わうことができる異文化体験イベント。\n時　間｜11:00～／13:00〜／14:00〜／15:00／16:00〜 ★予約制\n体　験｜20-30分程度\n定　員｜各回6人まで\n参加費｜1\,100円\n申込先｜上野焼協同組合  電話／0947-28-5864\n\n\n\n▍天郷あまのさと醸造所 × 上野焼コラボ／3日間\nクラフトサケと上野焼お猪口のセットを特別価格で販売します。\n\n\n\n▍スタンプラリー大抽選会／3日間\n上野焼など豪華景品が当たるスタンプラリー大抽選会を開催。\n\n\n\n▍上野焼 de お茶会／26日\n上野焼の器で抹茶を一服。茶菓子と楽しむお茶会体験。\n時間｜10:00～14:00（先着80席）\n料金｜500円（お菓子付）※当日受付\n\n\n\n★催しの詳細についてはチラシをご覧ください。\n\n\n\n\n    \n\n\nInformation\n第52回 上野焼あがのやき 春の陶器まつり\n 期日／4月24日（金）～26日（日）\n 時間／10:00〜17:00\n 送迎／巡回バス運行（無料）\n★平成筑豊鉄道・赤池駅から陶芸館経由して参加窯元を巡回運行\n\n\n\n参加窯元\n青柳不老園あおやぎふろうえん・梶原窯かじわらがま・光修窯こうしゅうがま・庚申窯こうしんがま・昇龍窯しょうりゅうがま・天郷窯てんごうがま・十時窯とときがま・守窯まもるがま・渡窯わたりがま\n\n\n\n会場／上野の里ふれあい交流会館（陶芸館）及び参加窯元\n 所在地／〒822-1102 福岡県田川郡福智町上野2811\n 駐車場／あり\n主催・お問い合わせ／上野焼協同組合\n 電話／0947-28-5864\n Instagram／@aganoyaki_potter\n\n\n\nWING Info\n今後のイベント情報が一目でわかる！筑豊イベントスケジュールはこちらから \n\n イベント スケジュール\n\n\n\n     \n\n \nクリックまたはタップでPDFが開きます
URL:https://wing-r.com/event/52st-aganoyaki-spring-festival/
LOCATION:上野の里ふれあい交流会館\, 上野2811-1\, 田川郡福智町\, 福岡県\, 822-1102\, 日本
CATEGORIES:田川郡,祭り
ATTACH;FMTTYPE=image/jpeg:https://wing-r.com/wp-content/uploads/2026/04/ev_52st-aganoyaki-spring-festival_mein.jpg
END:VEVENT
BEGIN:VEVENT
DTSTART;TZID=Asia/Tokyo:20260424T120000
DTEND;TZID=Asia/Tokyo:20260424T160000
DTSTAMP:20260424T195351
CREATED:20260420T015535Z
LAST-MODIFIED:20260420T043857Z
UID:59811-1777032000-1777046400@wing-r.com
SUMMARY:第4回 ジルの市
DESCRIPTION:4月24日（金）、スイーツショップ「ジャムジルスイーツ」で「第4回 ジルの市」が開催されます。\n不定期で開かれている小さなマルシェで、今回もお菓子や個性豊かな雑貨、手相占い、思わず笑みがこぼれるユニークな作品など、多彩な出店が並びます。\n甘い香りに包まれた空間で、あなただけの「お気に入り」を探す宝探しのようなひとときを楽しんでみませんか？\n\n\n出店者\n\n\n星の月（ひとぴさんの元気の出る手相占い）@hoshinotsuki0430\nMarumake＊（ドライフラワー）@marumake_handcraft\ntelier_f_m（洋服）@atelier_f_m\nkimu＊mami（布小物）@kimmami\nさっちゃんのお店（ジャム・佃煮・ドライフルーツ）@oosatosachie\nLOGカフェSARA（コーヒー・ホットサンド）\n\n\n\n\n    \n\n\nInformation\n第4回 ジルの市\n 期日／4月24日（金）\n 時間／12:00〜16:00\n会場／ジャムジルスイーツ\n 〒820-0206 福岡県嘉麻市鴨生800\n 駐車場／あり\n主催・お問い合わせ／ジャムジルスイーツ\n TEL.080-5606-9986（川原）\n\n\n\nWING Info\n今後のイベント情報が一目でわかる！筑豊イベントスケジュールはこちらから \n\n イベント スケジュール\n\n\n\n     \n\n \nクリックまたはタップでPDFが開きます
URL:https://wing-r.com/event/jill-no-ichi4/
LOCATION:ジャムジルスイーツ\, 鴨生800\, 嘉麻市\, 福岡県\, 820-0206\, Japan
CATEGORIES:嘉麻市,マルシェ
ATTACH;FMTTYPE=image/jpeg:https://wing-r.com/wp-content/uploads/2026/04/ev_jill-no-ichi4_mein.jpg
END:VEVENT
END:VCALENDAR